BEGIN:VCALENDAR
VERSION:2.0
PRODID:-//Plone.org//NONSGML plone.app.event//EN
X-WR-TIMEZONE:US/Central
BEGIN:VEVENT
SUMMARY:Toddler Storytime
DTSTART;TZID=US/Central:20240223T103000
DTEND;TZID=US/Central:20240223T110000
DTSTAMP:20260426T035130Z
UID:e8599ab33a0e4df78f1c8b35c9fe4541@saas_stack_varnish:6080
CONTACT:708-371-4090
CREATED:20240123T004617Z
LAST-MODIFIED:20240123T004625Z
LOCATION:In-Person Program
URL:https://www.crestwoodlibrary.org/news-events/lib-cal/toddler-storytime
 -16
END:VEVENT
BEGIN:VTIMEZONE
TZID:US/Central
X-LIC-LOCATION:US/Central
BEGIN:STANDARD
DTSTART:20231105T010000
TZNAME:CST
TZOFFSETFROM:-0500
TZOFFSETTO:-0600
END:STANDARD
END:VTIMEZONE
END:VCALENDAR
