BEGIN:VCALENDAR
VERSION:2.0
PRODID:-//Plone.org//NONSGML plone.app.event//EN
X-WR-TIMEZONE:US/Central
BEGIN:VEVENT
SUMMARY:Take Home Science Kit
DTSTART;VALUE=DATE:20260507
DTEND;VALUE=DATE:20260508
DTSTAMP:20260424T180131Z
UID:1773437cefb84792869db0f4fe8a7066@saas_stack_varnish:6080
RRULE:FREQ=MONTHLY;COUNT=10;BYDAY=+1TH
CATEGORIES:youth
CREATED:20251015T174217Z
LAST-MODIFIED:20260321T192548Z
URL:https://www.crestwoodlibrary.org/news-events/lib-cal/take-home-science
 -kit-26
END:VEVENT
END:VCALENDAR
