BEGIN:VCALENDAR
VERSION:2.0
PRODID:-//Plone.org//NONSGML plone.app.event//EN
X-WR-TIMEZONE:US/Central
BEGIN:VEVENT
SUMMARY:Take Home Science Kit
DTSTART;VALUE=DATE:20260402
DTEND;VALUE=DATE:20260403
DTSTAMP:20260424T163643Z
UID:1773437cefb84792869db0f4fe8a7066@saas_stack_varnish:6080
CATEGORIES:youth
CREATED:20251015T174217Z
LAST-MODIFIED:20260321T192548Z
URL:https://www.crestwoodlibrary.org/news-events/lib-cal/take-home-science
 -kit-26/2026-04-02
END:VEVENT
END:VCALENDAR
