BEGIN:VCALENDAR
VERSION:2.0
PRODID:-//Plone.org//NONSGML plone.app.event//EN
X-WR-TIMEZONE:US/Central
BEGIN:VEVENT
SUMMARY:Stampin’ Up Card Class
DTSTART;TZID=US/Central:20280214T180000
DTEND;TZID=US/Central:20280214T190000
DTSTAMP:20260424T193149Z
UID:0d21fb43318542acb00a3374998f89fc@saas_stack_varnish:6080
CATEGORIES:adults
CREATED:20250825T222837Z
LAST-MODIFIED:20260321T190933Z
URL:https://www.crestwoodlibrary.org/news-events/lib-cal/stampin2019-up-ca
 rd-class-5/2028-02-14
END:VEVENT
BEGIN:VTIMEZONE
TZID:US/Central
X-LIC-LOCATION:US/Central
BEGIN:STANDARD
DTSTART:20271107T010000
TZNAME:CST
TZOFFSETFROM:-0500
TZOFFSETTO:-0600
END:STANDARD
END:VTIMEZONE
END:VCALENDAR
