BEGIN:VCALENDAR
VERSION:2.0
PRODID:-//Plone.org//NONSGML plone.app.event//EN
X-WR-TIMEZONE:US/Central
BEGIN:VEVENT
SUMMARY:Stampin’ Up Card Class
DTSTART;TZID=US/Central:20270412T180000
DTEND;TZID=US/Central:20270412T190000
DTSTAMP:20260424T210616Z
UID:0d21fb43318542acb00a3374998f89fc@saas_stack_varnish:6080
CATEGORIES:adults
CREATED:20250825T222837Z
LAST-MODIFIED:20260321T190933Z
URL:https://www.crestwoodlibrary.org/news-events/lib-cal/stampin2019-up-ca
 rd-class-5/2027-04-12
END:VEVENT
BEGIN:VTIMEZONE
TZID:US/Central
X-LIC-LOCATION:US/Central
BEGIN:DAYLIGHT
DTSTART:20270314T030000
TZNAME:CDT
TZOFFSETFROM:-0600
TZOFFSETTO:-0500
END:DAYLIGHT
END:VTIMEZONE
END:VCALENDAR
