BEGIN:VCALENDAR
VERSION:2.0
PRODID:-//Plone.org//NONSGML plone.app.event//EN
X-WR-TIMEZONE:US/Central
BEGIN:VEVENT
SUMMARY:Science Club
DTSTART;TZID=US/Central:20170927T180000
DTEND;TZID=US/Central:20170927T190000
DTSTAMP:20260422T091730Z
UID:ba933d3fefda4d43ba672747e7dcb864@saas_stack_varnish:6080
CONTACT:708-371-4090
CREATED:20170828T225137Z
LAST-MODIFIED:20170828T225143Z
LOCATION:Crestwood Public Library
URL:https://www.crestwoodlibrary.org/news-events/lib-cal/science-club-1
END:VEVENT
BEGIN:VTIMEZONE
TZID:US/Central
X-LIC-LOCATION:US/Central
BEGIN:DAYLIGHT
DTSTART:20170312T030000
TZNAME:CDT
TZOFFSETFROM:-0600
TZOFFSETTO:-0500
END:DAYLIGHT
END:VTIMEZONE
END:VCALENDAR
