BEGIN:VCALENDAR
VERSION:2.0
PRODID:-//Plone.org//NONSGML plone.app.event//EN
X-WR-TIMEZONE:US/Central
BEGIN:VEVENT
SUMMARY:Save the Date! Summer Reading Challenge begins Saturday\, June 6th
 ! Dinosaurs are coming!
DTSTART;VALUE=DATE:20260606
DTEND;VALUE=DATE:20260607
DTSTAMP:20260424T182419Z
UID:0d33ae808606453ea92dc1b619541e56@saas_stack_varnish:6080
CATEGORIES:youth
CREATED:20260421T153517Z
LAST-MODIFIED:20260421T154952Z
URL:https://www.crestwoodlibrary.org/news-events/lib-cal/save-the-date-sum
 mer-reading-challenge-begins-saturday-june-6th-dinosaurs-are-coming
END:VEVENT
END:VCALENDAR
