BEGIN:VCALENDAR
VERSION:2.0
PRODID:-//Plone.org//NONSGML plone.app.event//EN
X-WR-TIMEZONE:US/Central
BEGIN:VEVENT
SUMMARY:Really? Eat More and Weigh Less
DTSTART;TZID=US/Central:20260604T180000
DTEND;TZID=US/Central:20260604T190000
DTSTAMP:20260424T175743Z
UID:9f9ea446a0c3471abd6f458a8671ae4a@saas_stack_varnish:6080
CATEGORIES:adults
CREATED:20260421T002801Z
LAST-MODIFIED:20260422T160311Z
URL:https://www.crestwoodlibrary.org/news-events/lib-cal/really-eat-more-a
 nd-weigh-less
END:VEVENT
BEGIN:VTIMEZONE
TZID:US/Central
X-LIC-LOCATION:US/Central
BEGIN:DAYLIGHT
DTSTART:20260308T030000
TZNAME:CDT
TZOFFSETFROM:-0600
TZOFFSETTO:-0500
END:DAYLIGHT
END:VTIMEZONE
END:VCALENDAR
