BEGIN:VCALENDAR
VERSION:2.0
PRODID:-//Plone.org//NONSGML plone.app.event//EN
X-WR-TIMEZONE:US/Central
BEGIN:VEVENT
SUMMARY:Preschool STEAM
DTSTART;TZID=US/Central:20230706T103000
DTEND;TZID=US/Central:20230706T110000
DTSTAMP:20260422T044403Z
UID:3cbafddb12594eee978495d06f7376c1@saas_stack_varnish:6080
CONTACT:708-371-4090
CREATED:20230620T000032Z
LAST-MODIFIED:20230620T000038Z
LOCATION:In-person program
URL:https://www.crestwoodlibrary.org/news-events/lib-cal/preschool-steam
END:VEVENT
BEGIN:VTIMEZONE
TZID:US/Central
X-LIC-LOCATION:US/Central
BEGIN:DAYLIGHT
DTSTART:20230312T030000
TZNAME:CDT
TZOFFSETFROM:-0600
TZOFFSETTO:-0500
END:DAYLIGHT
END:VTIMEZONE
END:VCALENDAR
