BEGIN:VCALENDAR
VERSION:2.0
PRODID:-//Plone.org//NONSGML plone.app.event//EN
X-WR-TIMEZONE:US/Central
BEGIN:VEVENT
SUMMARY:Pajama Storytime
DTSTART;TZID=US/Central:20231011T180000
DTEND;TZID=US/Central:20231011T190000
DTSTAMP:20260423T075124Z
UID:cb783259d0564b5b9cd0d841ee5b3ca8@saas_stack_varnish:6080
CONTACT:708-371-4090
CREATED:20230922T202259Z
LAST-MODIFIED:20230922T202308Z
LOCATION:In-Person Program
URL:https://www.crestwoodlibrary.org/news-events/lib-cal/pajama-storytime-
 1
END:VEVENT
BEGIN:VTIMEZONE
TZID:US/Central
X-LIC-LOCATION:US/Central
BEGIN:DAYLIGHT
DTSTART:20230312T030000
TZNAME:CDT
TZOFFSETFROM:-0600
TZOFFSETTO:-0500
END:DAYLIGHT
END:VTIMEZONE
END:VCALENDAR
