BEGIN:VCALENDAR
VERSION:2.0
PRODID:-//Plone.org//NONSGML plone.app.event//EN
X-WR-TIMEZONE:US/Central
BEGIN:VEVENT
SUMMARY:Needles & Yarn Knitting Club
DTSTART;TZID=US/Central:20231218T183000
DTEND;TZID=US/Central:20231218T193000
DTSTAMP:20260420T233641Z
UID:fefce95d70a641929a9803743566bc6a@saas_stack_varnish:6080
CONTACT:708-371-4090
CREATED:20231121T000703Z
LAST-MODIFIED:20231121T000712Z
LOCATION:In-Person Program
URL:https://www.crestwoodlibrary.org/news-events/lib-cal/needles-yarn-knit
 ting-club-61
END:VEVENT
BEGIN:VTIMEZONE
TZID:US/Central
X-LIC-LOCATION:US/Central
BEGIN:STANDARD
DTSTART:20231105T010000
TZNAME:CST
TZOFFSETFROM:-0500
TZOFFSETTO:-0600
END:STANDARD
END:VTIMEZONE
END:VCALENDAR
