BEGIN:VCALENDAR
VERSION:2.0
PRODID:-//Plone.org//NONSGML plone.app.event//EN
X-WR-TIMEZONE:US/Central
BEGIN:VEVENT
SUMMARY:Needles & Yarn
DTSTART;TZID=US/Central:20260518T183000
DTEND;TZID=US/Central:20260518T193000
DTSTAMP:20260424T035021Z
UID:5dc3018b267c4d1aa06a5ed7a2367ba0@saas_stack_varnish:6080
CATEGORIES:adults
CREATED:20250825T225542Z
LAST-MODIFIED:20260420T235706Z
URL:https://www.crestwoodlibrary.org/news-events/lib-cal/needles-yarn-14/2
 026-05-18
END:VEVENT
BEGIN:VTIMEZONE
TZID:US/Central
X-LIC-LOCATION:US/Central
BEGIN:DAYLIGHT
DTSTART:20260308T030000
TZNAME:CDT
TZOFFSETFROM:-0600
TZOFFSETTO:-0500
END:DAYLIGHT
END:VTIMEZONE
END:VCALENDAR
