BEGIN:VCALENDAR
VERSION:2.0
PRODID:-//Plone.org//NONSGML plone.app.event//EN
X-WR-TIMEZONE:US/Central
BEGIN:VEVENT
SUMMARY:Mystery Thriller Book Club
DTSTART;TZID=US/Central:20260528T180000
DTEND;TZID=US/Central:20260528T190000
DTSTAMP:20260424T175850Z
UID:a96e1153ec764b32a3c9f9e6d46b4aa3@saas_stack_varnish:6080
CATEGORIES:adults
CREATED:20260421T003607Z
LAST-MODIFIED:20260421T003620Z
URL:https://www.crestwoodlibrary.org/news-events/lib-cal/mystery-thriller-
 book-club-9
END:VEVENT
BEGIN:VTIMEZONE
TZID:US/Central
X-LIC-LOCATION:US/Central
BEGIN:DAYLIGHT
DTSTART:20260308T030000
TZNAME:CDT
TZOFFSETFROM:-0600
TZOFFSETTO:-0500
END:DAYLIGHT
END:VTIMEZONE
END:VCALENDAR
