BEGIN:VCALENDAR
VERSION:2.0
PRODID:-//Plone.org//NONSGML plone.app.event//EN
X-WR-TIMEZONE:US/Central
BEGIN:VEVENT
SUMMARY:Monday Take & Make Craft Kit
DTSTART;VALUE=DATE:20260601
DTEND;VALUE=DATE:20260602
DTSTAMP:20260422T065324Z
UID:560c2288a06a47b69fac37609646ff2b@saas_stack_varnish:6080
CATEGORIES:youth
CREATED:20250916T160801Z
LAST-MODIFIED:20260321T192131Z
URL:https://www.crestwoodlibrary.org/news-events/lib-cal/monday-take-make-
 craft-kit/2026-06-01
END:VEVENT
END:VCALENDAR
