BEGIN:VCALENDAR
VERSION:2.0
PRODID:-//Plone.org//NONSGML plone.app.event//EN
X-WR-TIMEZONE:US/Central
BEGIN:VEVENT
SUMMARY:Monday Take & Make
DTSTART;VALUE=DATE:20231016
DTEND;VALUE=DATE:20231017
DTSTAMP:20260422T151053Z
UID:555e2319d35646c8acc2fd1af5e08928@saas_stack_varnish:6080
CONTACT:708-371-4090
CREATED:20230922T212131Z
LAST-MODIFIED:20230922T212139Z
LOCATION:In-Person Program
URL:https://www.crestwoodlibrary.org/news-events/lib-cal/monday-take-make-
 2
END:VEVENT
END:VCALENDAR
