BEGIN:VCALENDAR
VERSION:2.0
PRODID:-//Plone.org//NONSGML plone.app.event//EN
X-WR-TIMEZONE:US/Central
BEGIN:VEVENT
SUMMARY:Monday Take and Make
DTSTART;VALUE=DATE:20241028
DTEND;VALUE=DATE:20241029
DTSTAMP:20260422T225607Z
UID:9300e85d46e54efb90e4b9d678cce6cb@saas_stack_varnish:6080
CONTACT:(708) 371-4090
CREATED:20240920T002104Z
LAST-MODIFIED:20240920T002208Z
LOCATION:Crestwood Public Library
URL:https://www.crestwoodlibrary.org/news-events/lib-cal/monday-take-and-m
 ake-22/2024-10-28
END:VEVENT
END:VCALENDAR
