BEGIN:VCALENDAR
VERSION:2.0
PRODID:-//Plone.org//NONSGML plone.app.event//EN
X-WR-TIMEZONE:US/Central
BEGIN:VEVENT
SUMMARY:Messy Mondays
DTSTART;TZID=US/Central:20260504T103000
DTEND;TZID=US/Central:20260504T110000
DTSTAMP:20260424T182742Z
UID:9227763743424407bbe0642841488130@saas_stack_varnish:6080
CREATED:20260421T153940Z
LAST-MODIFIED:20260421T153955Z
URL:https://www.crestwoodlibrary.org/news-events/lib-cal/messy-mondays-52
END:VEVENT
BEGIN:VTIMEZONE
TZID:US/Central
X-LIC-LOCATION:US/Central
BEGIN:DAYLIGHT
DTSTART:20260308T030000
TZNAME:CDT
TZOFFSETFROM:-0600
TZOFFSETTO:-0500
END:DAYLIGHT
END:VTIMEZONE
END:VCALENDAR
