BEGIN:VCALENDAR
VERSION:2.0
PRODID:-//Plone.org//NONSGML plone.app.event//EN
X-WR-TIMEZONE:US/Central
BEGIN:VEVENT
SUMMARY:Messy Monday
DTSTART;TZID=US/Central:20160307T120000
DTEND;TZID=US/Central:20160307T123000
DTSTAMP:20260419T130455Z
UID:543ff6233bf340b6ac71bcde3e808712@saas_stack_varnish:6080
RRULE:FREQ=WEEKLY;COUNT=3;BYDAY=MO
CONTACT:Debbie Fisher\, 708-371-4090
CREATED:20160224T173841Z
LAST-MODIFIED:20160224T173849Z
LOCATION:Crestwood Public Library
URL:https://www.crestwoodlibrary.org/news-events/lib-cal/messy-monday-6
END:VEVENT
BEGIN:VTIMEZONE
TZID:US/Central
X-LIC-LOCATION:US/Central
BEGIN:STANDARD
DTSTART:20151101T010000
TZNAME:CST
TZOFFSETFROM:-0500
TZOFFSETTO:-0600
END:STANDARD
END:VTIMEZONE
END:VCALENDAR
