BEGIN:VCALENDAR
VERSION:2.0
PRODID:-//Plone.org//NONSGML plone.app.event//EN
X-WR-TIMEZONE:US/Central
BEGIN:VEVENT
SUMMARY:Medicare & Humana
DTSTART;TZID=US/Central:20171204T180000
DTEND;TZID=US/Central:20171204T190000
DTSTAMP:20260423T202626Z
UID:a3c8edaa779c477e83e2f29b94f59ead@saas_stack_varnish:6080
CONTACT:708-371-4090
CREATED:20171117T194140Z
LAST-MODIFIED:20171117T194144Z
LOCATION:Crestwood Public Library
URL:https://www.crestwoodlibrary.org/news-events/lib-cal/medicare-humana-5
END:VEVENT
BEGIN:VTIMEZONE
TZID:US/Central
X-LIC-LOCATION:US/Central
BEGIN:STANDARD
DTSTART:20171105T010000
TZNAME:CST
TZOFFSETFROM:-0500
TZOFFSETTO:-0600
END:STANDARD
END:VTIMEZONE
END:VCALENDAR
