BEGIN:VCALENDAR
VERSION:2.0
PRODID:-//Plone.org//NONSGML plone.app.event//EN
X-WR-TIMEZONE:US/Central
BEGIN:VEVENT
SUMMARY:Medicare Basics
DTSTART;TZID=US/Central:20240605T180000
DTEND;TZID=US/Central:20240605T190000
DTSTAMP:20260425T201109Z
UID:877b51c663e44c309b61078613c70e93@saas_stack_varnish:6080
CONTACT:(708)371-4090
CREATED:20240515T213219Z
LAST-MODIFIED:20240515T213233Z
LOCATION:Crestwood Public Library
URL:https://www.crestwoodlibrary.org/news-events/lib-cal/medicare-basics-2
END:VEVENT
BEGIN:VTIMEZONE
TZID:US/Central
X-LIC-LOCATION:US/Central
BEGIN:DAYLIGHT
DTSTART:20240310T030000
TZNAME:CDT
TZOFFSETFROM:-0600
TZOFFSETTO:-0500
END:DAYLIGHT
END:VTIMEZONE
END:VCALENDAR
