BEGIN:VCALENDAR
VERSION:2.0
PRODID:-//Plone.org//NONSGML plone.app.event//EN
X-WR-TIMEZONE:US/Central
BEGIN:VEVENT
SUMMARY:LEGO Club
DTSTART;TZID=US/Central:20171113T153000
DTEND;TZID=US/Central:20171113T163000
DTSTAMP:20260423T225001Z
UID:31445b750c3142738a852d7817d505d0@saas_stack_varnish:6080
CONTACT:708-371-4090
CREATED:20171023T200853Z
LAST-MODIFIED:20171023T200900Z
LOCATION:Crestwood Public Library
URL:https://www.crestwoodlibrary.org/news-events/lib-cal/lego-club-14/2017
 -11-13
END:VEVENT
BEGIN:VTIMEZONE
TZID:US/Central
X-LIC-LOCATION:US/Central
BEGIN:STANDARD
DTSTART:20171105T010000
TZNAME:CST
TZOFFSETFROM:-0500
TZOFFSETTO:-0600
END:STANDARD
END:VTIMEZONE
END:VCALENDAR
