BEGIN:VCALENDAR
VERSION:2.0
PRODID:-//Plone.org//NONSGML plone.app.event//EN
X-WR-TIMEZONE:US/Central
BEGIN:VEVENT
SUMMARY:Kids Craft - Cornucopia Craft
DTSTART;TZID=US/Central:20241114T160000
DTEND;TZID=US/Central:20241114T170000
DTSTAMP:20260423T141536Z
UID:d70e7fac39c74e589f36a98136dc0ab0@saas_stack_varnish:6080
CONTACT:(708) 371-4090
CREATED:20241021T222744Z
LAST-MODIFIED:20241021T222754Z
LOCATION:Crestwood Public Library
URL:https://www.crestwoodlibrary.org/news-events/lib-cal/kids-craft-cornuc
 opia-craft
END:VEVENT
BEGIN:VTIMEZONE
TZID:US/Central
X-LIC-LOCATION:US/Central
BEGIN:STANDARD
DTSTART:20241103T010000
TZNAME:CST
TZOFFSETFROM:-0500
TZOFFSETTO:-0600
END:STANDARD
END:VTIMEZONE
END:VCALENDAR
