BEGIN:VCALENDAR
VERSION:2.0
PRODID:-//Plone.org//NONSGML plone.app.event//EN
X-WR-TIMEZONE:US/Central
BEGIN:VEVENT
SUMMARY:Just 4 Me
DTSTART;TZID=US/Central:20180221T113000
DTEND;TZID=US/Central:20180221T120000
DTSTAMP:20260422T205303Z
UID:55b1e786849a46c9a68f84b9aa874a37@saas_stack_varnish:6080
CONTACT:708-371-4090
CREATED:20180221T180315Z
LAST-MODIFIED:20180221T180319Z
LOCATION:Crestwood Public Library
URL:https://www.crestwoodlibrary.org/news-events/lib-cal/just-4-me-6
END:VEVENT
BEGIN:VTIMEZONE
TZID:US/Central
X-LIC-LOCATION:US/Central
BEGIN:STANDARD
DTSTART:20171105T010000
TZNAME:CST
TZOFFSETFROM:-0500
TZOFFSETTO:-0600
END:STANDARD
END:VTIMEZONE
END:VCALENDAR
