BEGIN:VCALENDAR
VERSION:2.0
PRODID:-//Plone.org//NONSGML plone.app.event//EN
X-WR-TIMEZONE:US/Central
BEGIN:VEVENT
SUMMARY:International Snack Club
DTSTART;TZID=US/Central:20250424T160000
DTEND;TZID=US/Central:20250424T170000
DTSTAMP:20260422T120100Z
UID:be7443158b3a4262a099f68d189238a9@saas_stack_varnish:6080
CONTACT:(708) 371-4090
CREATED:20250318T215002Z
LAST-MODIFIED:20250318T215014Z
LOCATION:Crestwood Public Library
URL:https://www.crestwoodlibrary.org/news-events/lib-cal/international-sna
 ck-club-20
END:VEVENT
BEGIN:VTIMEZONE
TZID:US/Central
X-LIC-LOCATION:US/Central
BEGIN:DAYLIGHT
DTSTART:20250309T030000
TZNAME:CDT
TZOFFSETFROM:-0600
TZOFFSETTO:-0500
END:DAYLIGHT
END:VTIMEZONE
END:VCALENDAR
