BEGIN:VCALENDAR
VERSION:2.0
PRODID:-//Plone.org//NONSGML plone.app.event//EN
X-WR-TIMEZONE:US/Central
BEGIN:VEVENT
SUMMARY:Illinois Libraries Present - Babel-On with R.F. Kuang
DTSTART;TZID=US/Central:20260520T190000
DTEND;TZID=US/Central:20260520T200000
DTSTAMP:20260424T182653Z
UID:6e329bdbb7be4ed6abc6545fb8f6847b@saas_stack_varnish:6080
CATEGORIES:adults
CREATED:20260421T001456Z
LAST-MODIFIED:20260421T001528Z
URL:https://www.crestwoodlibrary.org/news-events/lib-cal/illinois-librarie
 s-present-babel-on-with-r-f-kuang
END:VEVENT
BEGIN:VTIMEZONE
TZID:US/Central
X-LIC-LOCATION:US/Central
BEGIN:DAYLIGHT
DTSTART:20260308T030000
TZNAME:CDT
TZOFFSETFROM:-0600
TZOFFSETTO:-0500
END:DAYLIGHT
END:VTIMEZONE
END:VCALENDAR
