BEGIN:VCALENDAR
VERSION:2.0
PRODID:-//Plone.org//NONSGML plone.app.event//EN
X-WR-TIMEZONE:US/Central
BEGIN:VEVENT
SUMMARY:Humana Medicare 101 Seminar
DTSTART;TZID=US/Central:20210922T100000
DTEND;TZID=US/Central:20210922T110000
DTSTAMP:20260419T184421Z
UID:90ff6ec0c0ff4f7996cc3dbcd91e4364@saas_stack_varnish:6080
CONTACT:708-371-4090
CREATED:20210820T181605Z
LAST-MODIFIED:20210820T181610Z
LOCATION:Crestwood Public Library
URL:https://www.crestwoodlibrary.org/news-events/lib-cal/humana-medicare-1
 01-seminar
END:VEVENT
BEGIN:VTIMEZONE
TZID:US/Central
X-LIC-LOCATION:US/Central
BEGIN:DAYLIGHT
DTSTART:20210314T030000
TZNAME:CDT
TZOFFSETFROM:-0600
TZOFFSETTO:-0500
END:DAYLIGHT
END:VTIMEZONE
END:VCALENDAR
