BEGIN:VCALENDAR
VERSION:2.0
PRODID:-//Plone.org//NONSGML plone.app.event//EN
X-WR-TIMEZONE:US/Central
BEGIN:VEVENT
SUMMARY:Easter Bunny Visit
DTSTART;TZID=US/Central:20150331T173000
DTEND;TZID=US/Central:20150331T190000
DTSTAMP:20260419T213212Z
UID:56c1180b6b384817fcd248b75218e67f@saas_stack_varnish:6080
CONTACT:708-371-4090
CREATED:20150304T200237Z
LAST-MODIFIED:20150304T200305Z
LOCATION:Crestwood Public Library
URL:https://www.crestwoodlibrary.org/news-events/lib-cal/easter-bunny-visi
 t.ics
END:VEVENT
BEGIN:VTIMEZONE
TZID:US/Central
X-LIC-LOCATION:US/Central
BEGIN:DAYLIGHT
DTSTART:20150308T030000
TZNAME:CDT
TZOFFSETFROM:-0600
TZOFFSETTO:-0500
END:DAYLIGHT
END:VTIMEZONE
END:VCALENDAR
