BEGIN:VCALENDAR
VERSION:2.0
PRODID:-//Plone.org//NONSGML plone.app.event//EN
X-WR-TIMEZONE:US/Central
BEGIN:VEVENT
SUMMARY:Crafty Kids
DTSTART;TZID=US/Central:20181115T160000
DTEND;TZID=US/Central:20181115T170000
DTSTAMP:20260424T201755Z
UID:6ccbb18e3e0e4acda8454a29f0d57767@saas_stack_varnish:6080
CONTACT:708-371-4090
CREATED:20181024T191205Z
LAST-MODIFIED:20181024T192013Z
LOCATION:Crestwood Public Library
URL:https://www.crestwoodlibrary.org/news-events/lib-cal/crafty-kids-17
END:VEVENT
BEGIN:VTIMEZONE
TZID:US/Central
X-LIC-LOCATION:US/Central
BEGIN:STANDARD
DTSTART:20181104T010000
TZNAME:CST
TZOFFSETFROM:-0500
TZOFFSETTO:-0600
END:STANDARD
END:VTIMEZONE
END:VCALENDAR
