BEGIN:VCALENDAR
VERSION:2.0
PRODID:-//Plone.org//NONSGML plone.app.event//EN
X-WR-TIMEZONE:US/Central
BEGIN:VEVENT
SUMMARY:Crafteens
DTSTART;TZID=US/Central:20180110T160000
DTEND;TZID=US/Central:20180110T170000
DTSTAMP:20260420T062938Z
UID:45ef8bbd6b244988bb4fad425a5b82b0@saas_stack_varnish:6080
CONTACT:708-371-4090
CREATED:20171219T190741Z
LAST-MODIFIED:20171219T190747Z
LOCATION:Crestwood Public Library
URL:https://www.crestwoodlibrary.org/news-events/lib-cal/crafteens-9
END:VEVENT
BEGIN:VTIMEZONE
TZID:US/Central
X-LIC-LOCATION:US/Central
BEGIN:STANDARD
DTSTART:20171105T010000
TZNAME:CST
TZOFFSETFROM:-0500
TZOFFSETTO:-0600
END:STANDARD
END:VTIMEZONE
END:VCALENDAR
