BEGIN:VCALENDAR
VERSION:2.0
PRODID:-//Plone.org//NONSGML plone.app.event//EN
X-WR-TIMEZONE:US/Central
BEGIN:VEVENT
SUMMARY:Chess Champions
DTSTART;TZID=US/Central:20190904T153000
DTEND;TZID=US/Central:20190904T163000
DTSTAMP:20260424T095534Z
UID:ea289df020f24dc3b0548b6b7d7a74f1@saas_stack_varnish:6080
RRULE:FREQ=WEEKLY;COUNT=6;BYDAY=WE
RDATE;TZID=US/Central:20191016T000000,20191023T000000
CONTACT:708-371-4090
CREATED:20190823T160744Z
LAST-MODIFIED:20190920T165240Z
LOCATION:Crestwood Public Library
URL:https://www.crestwoodlibrary.org/news-events/lib-cal/chess-champions-1
 6
END:VEVENT
BEGIN:VTIMEZONE
TZID:US/Central
X-LIC-LOCATION:US/Central
BEGIN:DAYLIGHT
DTSTART:20190310T030000
TZNAME:CDT
TZOFFSETFROM:-0600
TZOFFSETTO:-0500
END:DAYLIGHT
END:VTIMEZONE
END:VCALENDAR
