BEGIN:VCALENDAR
VERSION:2.0
PRODID:-//Plone.org//NONSGML plone.app.event//EN
X-WR-TIMEZONE:US/Central
BEGIN:VEVENT
SUMMARY:Book Club
DTSTART;TZID=US/Central:20190306T180000
DTEND;TZID=US/Central:20190306T190000
DTSTAMP:20260422T023449Z
UID:3506765cc0744eea916cb2cbbbd41eaf@saas_stack_varnish:6080
CONTACT:708-371-4090
CREATED:20190222T202221Z
LAST-MODIFIED:20190222T202229Z
LOCATION:Crestwood Public Library
URL:https://www.crestwoodlibrary.org/news-events/lib-cal/book-club-4
END:VEVENT
BEGIN:VTIMEZONE
TZID:US/Central
X-LIC-LOCATION:US/Central
BEGIN:STANDARD
DTSTART:20181104T010000
TZNAME:CST
TZOFFSETFROM:-0500
TZOFFSETTO:-0600
END:STANDARD
END:VTIMEZONE
END:VCALENDAR
