BEGIN:VCALENDAR
VERSION:2.0
PRODID:-//Plone.org//NONSGML plone.app.event//EN
X-WR-TIMEZONE:US/Central
BEGIN:VEVENT
SUMMARY:Adult Take & Make Craft Kit
DTSTART;TZID=US/Central:20281123T090000
DTEND;TZID=US/Central:20281123T100000
DTSTAMP:20260421T171350Z
UID:237b55963b514cbab4a3f057088dc955@saas_stack_varnish:6080
CREATED:20250825T230257Z
LAST-MODIFIED:20250915T234630Z
URL:https://www.crestwoodlibrary.org/news-events/lib-cal/adult-take-make-c
 raft-kit-7/2028-11-23
END:VEVENT
BEGIN:VTIMEZONE
TZID:US/Central
X-LIC-LOCATION:US/Central
BEGIN:STANDARD
DTSTART:20281105T010000
TZNAME:CST
TZOFFSETFROM:-0500
TZOFFSETTO:-0600
END:STANDARD
END:VTIMEZONE
END:VCALENDAR
