BEGIN:VCALENDAR
VERSION:2.0
PRODID:-//Plone.org//NONSGML plone.app.event//EN
X-WR-TIMEZONE:US/Central
BEGIN:VEVENT
SUMMARY:National Library Week
DTSTART;TZID=US/Central:20260420T090000
DTEND;TZID=US/Central:20260425T160000
DTSTAMP:20260424T150740Z
UID:11e7f2e78bf04b709fbd404c1c0c8601@saas_stack_varnish:6080
CATEGORIES:adults
CREATED:20260324T000957Z
LAST-MODIFIED:20260324T002152Z
URL:https://www.crestwoodlibrary.org/news-events/lib-cal/national-library-
 week-1
END:VEVENT
BEGIN:VEVENT
SUMMARY:Monday Take & Make Craft Kit
DTSTART;VALUE=DATE:20260427
DTEND;VALUE=DATE:20260428
DTSTAMP:20260424T150740Z
UID:560c2288a06a47b69fac37609646ff2b@saas_stack_varnish:6080
RRULE:FREQ=WEEKLY;COUNT=40;BYDAY=MO
CATEGORIES:youth
CREATED:20250916T160801Z
LAST-MODIFIED:20260321T192131Z
URL:https://www.crestwoodlibrary.org/news-events/lib-cal/monday-take-make-
 craft-kit
END:VEVENT
BEGIN:VEVENT
SUMMARY:Messy Mondays
DTSTART;TZID=US/Central:20251006T103000
DTEND;TZID=US/Central:20251006T110000
DTSTAMP:20260424T150740Z
UID:22b5c3c5901d43dfb9197b90da71a7d7@saas_stack_varnish:6080
RRULE:FREQ=WEEKLY;COUNT=20;BYDAY=MO
EXDATE;TZID=US/Central:20251013T000000,20251020T000000,20251027T000000,202
 51110T000000,20251124T000000,20251208T000000,20251222T000000,20251229T0000
 00,20260112T000000,20260126T000000,20260209T000000
CREATED:20250916T152931Z
LAST-MODIFIED:20251125T181703Z
URL:https://www.crestwoodlibrary.org/news-events/lib-cal/messy-mondays-48
END:VEVENT
BEGIN:VEVENT
SUMMARY:Needles & Yarn
DTSTART;TZID=US/Central:20260427T183000
DTEND;TZID=US/Central:20260427T193000
DTSTAMP:20260424T150740Z
UID:5dc3018b267c4d1aa06a5ed7a2367ba0@saas_stack_varnish:6080
RRULE:FREQ=MONTHLY;COUNT=40;BYDAY=+4MO
EXDATE;TZID=US/Central:20260525T000000
CATEGORIES:adults
CREATED:20250825T225542Z
LAST-MODIFIED:20260420T235706Z
URL:https://www.crestwoodlibrary.org/news-events/lib-cal/needles-yarn-14
END:VEVENT
BEGIN:VEVENT
SUMMARY:Tech Help Tuesdays
DTSTART;TZID=US/Central:20260428T130000
DTEND;TZID=US/Central:20260428T140000
DTSTAMP:20260424T150740Z
UID:e4fa784cc4b0485db150525397490022@saas_stack_varnish:6080
RRULE:FREQ=WEEKLY;COUNT=40;BYDAY=TU
EXDATE;TZID=US/Central:20250910T000000,20250911T000000,20250912T000000,202
 50913T000000,20250914T000000,20250915T000000
CATEGORIES:adults
CREATED:20250910T190104Z
LAST-MODIFIED:20260321T190821Z
URL:https://www.crestwoodlibrary.org/news-events/lib-cal/tech-help-tuesday
 s-3
END:VEVENT
BEGIN:VEVENT
SUMMARY:Family Bingo
DTSTART;TZID=US/Central:20260428T180000
DTEND;TZID=US/Central:20260428T190000
DTSTAMP:20260424T150740Z
UID:77a07ab606c342ee8ffd79ecb8cd7b7a@saas_stack_varnish:6080
RRULE:FREQ=MONTHLY;COUNT=7;BYDAY=-1TU
EXDATE;TZID=US/Central:20260526T000000
CATEGORIES:youth
CREATED:20251015T180859Z
LAST-MODIFIED:20260421T000002Z
URL:https://www.crestwoodlibrary.org/news-events/lib-cal/family-bingo-48
END:VEVENT
BEGIN:VEVENT
SUMMARY:Adult Take & Make Craft Kit
DTSTART;VALUE=DATE:20260430
DTEND;VALUE=DATE:20260501
DTSTAMP:20260424T150740Z
UID:392557361cc44aec9ff8f0c855bec569@saas_stack_varnish:6080
RRULE:FREQ=MONTHLY;COUNT=10;BYDAY=-1TH
CATEGORIES:adults
CREATED:20251217T170454Z
LAST-MODIFIED:20260321T191355Z
URL:https://www.crestwoodlibrary.org/news-events/lib-cal/adult-take-make-c
 raft-kit-8
END:VEVENT
BEGIN:VEVENT
SUMMARY:International Snack Club
DTSTART;TZID=US/Central:20260430T160000
DTEND;TZID=US/Central:20260430T170000
DTSTAMP:20260424T150740Z
UID:53e80ab4964d4974b4163a590fdadfe3@saas_stack_varnish:6080
CATEGORIES:youth
CREATED:20260318T191153Z
LAST-MODIFIED:20260321T194507Z
URL:https://www.crestwoodlibrary.org/news-events/lib-cal/international-sna
 ck-club-31
END:VEVENT
BEGIN:VEVENT
SUMMARY:Mystery Thriller Book Club
DTSTART;TZID=US/Central:20260430T180000
DTEND;TZID=US/Central:20260430T190000
DTSTAMP:20260424T150740Z
UID:e6258fd60f804fffbef60b07a77c8044@saas_stack_varnish:6080
CATEGORIES:adults
CREATED:20260318T182838Z
LAST-MODIFIED:20260321T191416Z
URL:https://www.crestwoodlibrary.org/news-events/lib-cal/mystery-thriller-
 book-club-8
END:VEVENT
BEGIN:VEVENT
SUMMARY:Toddler Time
DTSTART;TZID=US/Central:20260501T103000
DTEND;TZID=US/Central:20260501T110000
DTSTAMP:20260424T150740Z
UID:2363d70f3bbd4badaff8b2d46ef823dc@saas_stack_varnish:6080
RRULE:FREQ=WEEKLY;COUNT=43;BYDAY=FR
EXDATE;TZID=US/Central:20251208T000000,20251209T000000,20251210T000000,202
 51211T000000,20251215T000000,20251226T000000,20260102T000000,20260109T0000
 00,20260206T000000,20260403T000000,20260424T000000,20260522T000000,2026052
 9T000000
CATEGORIES:youth
CREATED:20251125T165813Z
LAST-MODIFIED:20260420T235238Z
URL:https://www.crestwoodlibrary.org/news-events/lib-cal/toddler-time-4
END:VEVENT
BEGIN:VEVENT
SUMMARY:Preschool Storytime
DTSTART;TZID=US/Central:20260501T120000
DTEND;TZID=US/Central:20260501T124500
DTSTAMP:20260424T150740Z
UID:ea2bffd032d440b096b831ad247a0b5c@saas_stack_varnish:6080
RRULE:FREQ=WEEKLY;COUNT=43;BYDAY=FR
EXDATE;TZID=US/Central:20251031T000000,20260403T000000,20260424T000000,202
 60522T000000,20260529T000000
CATEGORIES:youth
CREATED:20250916T004838Z
LAST-MODIFIED:20260420T235319Z
URL:https://www.crestwoodlibrary.org/news-events/lib-cal/preschool-storyti
 me-4
END:VEVENT
BEGIN:VEVENT
SUMMARY:Messy Mondays
DTSTART;TZID=US/Central:20260504T103000
DTEND;TZID=US/Central:20260504T110000
DTSTAMP:20260424T150740Z
UID:9227763743424407bbe0642841488130@saas_stack_varnish:6080
CREATED:20260421T153940Z
LAST-MODIFIED:20260421T153955Z
URL:https://www.crestwoodlibrary.org/news-events/lib-cal/messy-mondays-52
END:VEVENT
BEGIN:VEVENT
SUMMARY:Day Trips on a Dime
DTSTART;TZID=US/Central:20260504T180000
DTEND;TZID=US/Central:20260504T190000
DTSTAMP:20260424T150740Z
UID:87a2c16abcf545f8b01ff2646c2f5cc7@saas_stack_varnish:6080
CATEGORIES:adults
CREATED:20260318T183604Z
LAST-MODIFIED:20260321T191456Z
URL:https://www.crestwoodlibrary.org/news-events/lib-cal/day-trips-on-a-di
 me
END:VEVENT
BEGIN:VEVENT
SUMMARY:Board Games & Brownies
DTSTART;TZID=US/Central:20260505T173000
DTEND;TZID=US/Central:20260505T183000
DTSTAMP:20260424T150740Z
UID:9d803df13e784a88a550ed374b053e34@saas_stack_varnish:6080
RRULE:FREQ=MONTHLY;COUNT=10;BYDAY=+1TU
CATEGORIES:youth
CREATED:20251015T174631Z
LAST-MODIFIED:20260321T192514Z
URL:https://www.crestwoodlibrary.org/news-events/lib-cal/board-games-brown
 ies-2
END:VEVENT
BEGIN:VEVENT
SUMMARY:Take Home Science Kit
DTSTART;VALUE=DATE:20260507
DTEND;VALUE=DATE:20260508
DTSTAMP:20260424T150740Z
UID:1773437cefb84792869db0f4fe8a7066@saas_stack_varnish:6080
RRULE:FREQ=MONTHLY;COUNT=10;BYDAY=+1TH
CATEGORIES:youth
CREATED:20251015T174217Z
LAST-MODIFIED:20260321T192548Z
URL:https://www.crestwoodlibrary.org/news-events/lib-cal/take-home-science
 -kit-26
END:VEVENT
BEGIN:VEVENT
SUMMARY:LEGO Club
DTSTART;TZID=US/Central:20260507T160000
DTEND;TZID=US/Central:20260507T170000
DTSTAMP:20260424T150740Z
UID:b6e63bb4043f43c78400fc9f79bc7b17@saas_stack_varnish:6080
RRULE:FREQ=MONTHLY;COUNT=1;BYMONTHDAY=7
CATEGORIES:youth
CREATED:20251015T174028Z
LAST-MODIFIED:20260321T194006Z
URL:https://www.crestwoodlibrary.org/news-events/lib-cal/lego-club-90
END:VEVENT
BEGIN:VEVENT
SUMMARY:Kids Art Studio
DTSTART;TZID=US/Central:20260511T160000
DTEND;TZID=US/Central:20260511T163000
DTSTAMP:20260424T150740Z
UID:40827f4c506b4ca09b86b28bdaf13358@saas_stack_varnish:6080
RRULE:FREQ=MONTHLY;COUNT=7;BYDAY=+2MO
CATEGORIES:youth
CREATED:20251015T174809Z
LAST-MODIFIED:20260321T192722Z
URL:https://www.crestwoodlibrary.org/news-events/lib-cal/kids-art-studio-2
END:VEVENT
BEGIN:VEVENT
SUMMARY:Stampin’ Up Card Class
DTSTART;TZID=US/Central:20260511T180000
DTEND;TZID=US/Central:20260511T190000
DTSTAMP:20260424T150740Z
UID:0d21fb43318542acb00a3374998f89fc@saas_stack_varnish:6080
RRULE:FREQ=MONTHLY;COUNT=40;BYDAY=+2MO
CATEGORIES:adults
CREATED:20250825T222837Z
LAST-MODIFIED:20260321T190933Z
URL:https://www.crestwoodlibrary.org/news-events/lib-cal/stampin2019-up-ca
 rd-class-5
END:VEVENT
BEGIN:VEVENT
SUMMARY:Read to the Dogs
DTSTART;TZID=US/Central:20260512T170000
DTEND;TZID=US/Central:20260512T180000
DTSTAMP:20260424T150740Z
UID:c423d873eb5a42cca2dcdded89d039f9@saas_stack_varnish:6080
CATEGORIES:youth
CREATED:20260421T155314Z
LAST-MODIFIED:20260421T155351Z
URL:https://www.crestwoodlibrary.org/news-events/lib-cal/read-to-the-dogs-
 69
END:VEVENT
BEGIN:VEVENT
SUMMARY:Medicare 101
DTSTART;TZID=US/Central:20260513T180000
DTEND;TZID=US/Central:20260513T190000
DTSTAMP:20260424T150740Z
UID:e00babf9a7914d85a7b28f5b5a9b3eeb@saas_stack_varnish:6080
CATEGORIES:adults
CREATED:20260421T002921Z
LAST-MODIFIED:20260422T160527Z
URL:https://www.crestwoodlibrary.org/news-events/lib-cal/medicare-101-6
END:VEVENT
BEGIN:VEVENT
SUMMARY:Toddler STEAM
DTSTART;TZID=US/Central:20260514T103000
DTEND;TZID=US/Central:20260514T113000
DTSTAMP:20260424T150740Z
UID:8891cd4299374b8fa6bf4ccbc2540620@saas_stack_varnish:6080
CATEGORIES:youth
CREATED:20260421T154112Z
LAST-MODIFIED:20260421T154133Z
URL:https://www.crestwoodlibrary.org/news-events/lib-cal/toddler-steam-13
END:VEVENT
BEGIN:VEVENT
SUMMARY:Illinois Libraries Present - Babel-On with R.F. Kuang
DTSTART;TZID=US/Central:20260520T190000
DTEND;TZID=US/Central:20260520T200000
DTSTAMP:20260424T150740Z
UID:6e329bdbb7be4ed6abc6545fb8f6847b@saas_stack_varnish:6080
CATEGORIES:adults
CREATED:20260421T001456Z
LAST-MODIFIED:20260421T001528Z
URL:https://www.crestwoodlibrary.org/news-events/lib-cal/illinois-librarie
 s-present-babel-on-with-r-f-kuang
END:VEVENT
BEGIN:VEVENT
SUMMARY:International Snack Club| Japan!
DTSTART;TZID=US/Central:20260521T160000
DTEND;TZID=US/Central:20260521T170000
DTSTAMP:20260424T150740Z
UID:a141d31a6d7747b48cff0bb02e34c115@saas_stack_varnish:6080
CATEGORIES:youth
CREATED:20260421T154415Z
LAST-MODIFIED:20260421T154444Z
URL:https://www.crestwoodlibrary.org/news-events/lib-cal/international-sna
 ck-club-japan
END:VEVENT
BEGIN:VEVENT
SUMMARY:IL I-Cash Program
DTSTART;TZID=US/Central:20260526T180000
DTEND;TZID=US/Central:20260526T190000
DTSTAMP:20260424T150740Z
UID:39a4ab782b094eed97d3d737f5fdbf46@saas_stack_varnish:6080
CATEGORIES:adults
CREATED:20260421T003436Z
LAST-MODIFIED:20260421T003445Z
URL:https://www.crestwoodlibrary.org/news-events/lib-cal/il-i-cash-program
END:VEVENT
BEGIN:VEVENT
SUMMARY:Adult Take & Make Craft Kit
DTSTART;TZID=US/Central:20260528T090000
DTEND;TZID=US/Central:20260528T100000
DTSTAMP:20260424T150740Z
UID:237b55963b514cbab4a3f057088dc955@saas_stack_varnish:6080
RRULE:FREQ=MONTHLY;COUNT=40;BYDAY=+4TH
CREATED:20250825T230257Z
LAST-MODIFIED:20250915T234630Z
URL:https://www.crestwoodlibrary.org/news-events/lib-cal/adult-take-make-c
 raft-kit-7
END:VEVENT
BEGIN:VEVENT
SUMMARY:Everyday AI
DTSTART;TZID=US/Central:20260528T120000
DTEND;TZID=US/Central:20260528T133000
DTSTAMP:20260424T150740Z
UID:e069f99625ec4295a98d9c8ad7603cc6@saas_stack_varnish:6080
CATEGORIES:adults
CREATED:20260421T001958Z
LAST-MODIFIED:20260422T160157Z
URL:https://www.crestwoodlibrary.org/news-events/lib-cal/everyday-ai
END:VEVENT
BEGIN:VEVENT
SUMMARY:Mystery Thriller Book Club
DTSTART;TZID=US/Central:20260528T180000
DTEND;TZID=US/Central:20260528T190000
DTSTAMP:20260424T150740Z
UID:a96e1153ec764b32a3c9f9e6d46b4aa3@saas_stack_varnish:6080
CATEGORIES:adults
CREATED:20260421T003607Z
LAST-MODIFIED:20260421T003620Z
URL:https://www.crestwoodlibrary.org/news-events/lib-cal/mystery-thriller-
 book-club-9
END:VEVENT
BEGIN:VEVENT
SUMMARY:Really? Eat More and Weigh Less
DTSTART;TZID=US/Central:20260604T180000
DTEND;TZID=US/Central:20260604T190000
DTSTAMP:20260424T150740Z
UID:9f9ea446a0c3471abd6f458a8671ae4a@saas_stack_varnish:6080
CATEGORIES:adults
CREATED:20260421T002801Z
LAST-MODIFIED:20260422T160311Z
URL:https://www.crestwoodlibrary.org/news-events/lib-cal/really-eat-more-a
 nd-weigh-less
END:VEVENT
BEGIN:VEVENT
SUMMARY:Save the Date! Summer Reading Challenge begins Saturday\, June 6th
 ! Dinosaurs are coming!
DTSTART;VALUE=DATE:20260606
DTEND;VALUE=DATE:20260607
DTSTAMP:20260424T150740Z
UID:0d33ae808606453ea92dc1b619541e56@saas_stack_varnish:6080
CATEGORIES:youth
CREATED:20260421T153517Z
LAST-MODIFIED:20260421T154952Z
URL:https://www.crestwoodlibrary.org/news-events/lib-cal/save-the-date-sum
 mer-reading-challenge-begins-saturday-june-6th-dinosaurs-are-coming
END:VEVENT
BEGIN:VEVENT
SUMMARY:Bullet Journaling for Beginners
DTSTART;TZID=US/Central:20260629T180000
DTEND;TZID=US/Central:20260629T190000
DTSTAMP:20260424T150740Z
UID:85974d5d68494e02810472079bb80e75@saas_stack_varnish:6080
CATEGORIES:adults
CREATED:20260318T182008Z
LAST-MODIFIED:20260422T175456Z
URL:https://www.crestwoodlibrary.org/news-events/lib-cal/bullet-journaling
 -for-beginners
END:VEVENT
BEGIN:VTIMEZONE
TZID:US/Central
X-LIC-LOCATION:US/Central
BEGIN:DAYLIGHT
DTSTART:20260308T030000
TZNAME:CDT
TZOFFSETFROM:-0600
TZOFFSETTO:-0500
END:DAYLIGHT
BEGIN:DAYLIGHT
DTSTART:20250309T030000
TZNAME:CDT
TZOFFSETFROM:-0600
TZOFFSETTO:-0500
END:DAYLIGHT
END:VTIMEZONE
END:VCALENDAR
