BEGIN:VCALENDAR
VERSION:2.0
PRODID:-//Plone.org//NONSGML plone.app.event//EN
X-WR-TIMEZONE:US/Central
BEGIN:VEVENT
SUMMARY:National Library Week
DTSTART;TZID=US/Central:20260420T090000
DTEND;TZID=US/Central:20260425T160000
DTSTAMP:20260421T101710Z
UID:11e7f2e78bf04b709fbd404c1c0c8601@saas_stack_varnish:6080
CATEGORIES:adults
CREATED:20260324T000957Z
LAST-MODIFIED:20260324T002152Z
URL:https://www.crestwoodlibrary.org/news-events/lib-cal/national-library-
 week-1
END:VEVENT
BEGIN:VEVENT
SUMMARY:Tech Help Tuesdays
DTSTART;TZID=US/Central:20260421T130000
DTEND;TZID=US/Central:20260421T140000
DTSTAMP:20260421T101710Z
UID:e4fa784cc4b0485db150525397490022@saas_stack_varnish:6080
RRULE:FREQ=WEEKLY;COUNT=40;BYDAY=TU
EXDATE;TZID=US/Central:20250910T000000,20250911T000000,20250912T000000,202
 50913T000000,20250914T000000,20250915T000000
CATEGORIES:adults
CREATED:20250910T190104Z
LAST-MODIFIED:20260321T190821Z
URL:https://www.crestwoodlibrary.org/news-events/lib-cal/tech-help-tuesday
 s-3
END:VEVENT
BEGIN:VEVENT
SUMMARY:Kids Kitchen
DTSTART;TZID=US/Central:20260421T160000
DTEND;TZID=US/Central:20260421T170000
DTSTAMP:20260421T101710Z
UID:bf8b1c851c25473d9429a5dca94f5025@saas_stack_varnish:6080
CATEGORIES:youth
CREATED:20260318T190745Z
LAST-MODIFIED:20260321T194425Z
URL:https://www.crestwoodlibrary.org/news-events/lib-cal/kids-kitchen-38
END:VEVENT
BEGIN:VTIMEZONE
TZID:US/Central
X-LIC-LOCATION:US/Central
BEGIN:DAYLIGHT
DTSTART:20260308T030000
TZNAME:CDT
TZOFFSETFROM:-0600
TZOFFSETTO:-0500
END:DAYLIGHT
END:VTIMEZONE
END:VCALENDAR
