BEGIN:VCALENDAR
VERSION:2.0
PRODID:-//Plone.org//NONSGML plone.app.event//EN
X-WR-TIMEZONE:US/Central
BEGIN:VEVENT
SUMMARY:National Library Week
DTSTART;TZID=US/Central:20260420T090000
DTEND;TZID=US/Central:20260425T160000
DTSTAMP:20260423T091740Z
UID:11e7f2e78bf04b709fbd404c1c0c8601@saas_stack_varnish:6080
CATEGORIES:adults
CREATED:20260324T000957Z
LAST-MODIFIED:20260324T002152Z
URL:https://www.crestwoodlibrary.org/news-events/lib-cal/national-library-
 week-1
END:VEVENT
BEGIN:VEVENT
SUMMARY:Adult Take & Make Craft Kit
DTSTART;TZID=US/Central:20260423T090000
DTEND;TZID=US/Central:20260423T100000
DTSTAMP:20260423T091740Z
UID:237b55963b514cbab4a3f057088dc955@saas_stack_varnish:6080
RRULE:FREQ=MONTHLY;COUNT=40;BYDAY=+4TH
CREATED:20250825T230257Z
LAST-MODIFIED:20250915T234630Z
URL:https://www.crestwoodlibrary.org/news-events/lib-cal/adult-take-make-c
 raft-kit-7
END:VEVENT
BEGIN:VEVENT
SUMMARY:Toddler STEAM
DTSTART;TZID=US/Central:20260423T103000
DTEND;TZID=US/Central:20260423T113000
DTSTAMP:20260423T091740Z
UID:a11f76e33902400ca3df8c83156e521d@saas_stack_varnish:6080
CATEGORIES:youth
CREATED:20260318T190632Z
LAST-MODIFIED:20260321T194400Z
URL:https://www.crestwoodlibrary.org/news-events/lib-cal/toddler-steam-14
END:VEVENT
BEGIN:VTIMEZONE
TZID:US/Central
X-LIC-LOCATION:US/Central
BEGIN:DAYLIGHT
DTSTART:20260308T030000
TZNAME:CDT
TZOFFSETFROM:-0600
TZOFFSETTO:-0500
END:DAYLIGHT
END:VTIMEZONE
END:VCALENDAR
